BEGIN:VCALENDAR
VERSION:2.0
PRODID:-//Baboquivari Secondary Campus - ECPv6.15.17.1//NONSGML v1.0//EN
CALSCALE:GREGORIAN
METHOD:PUBLISH
X-WR-CALNAME:Baboquivari Secondary Campus
X-ORIGINAL-URL:https://www.bhswarriors.com
X-WR-CALDESC:Events for Baboquivari Secondary Campus
REFRESH-INTERVAL;VALUE=DURATION:PT1H
X-Robots-Tag:noindex
X-PUBLISHED-TTL:PT1H
BEGIN:VTIMEZONE
TZID:America/Phoenix
BEGIN:STANDARD
TZOFFSETFROM:-0700
TZOFFSETTO:-0700
TZNAME:MST
DTSTART:20240101T000000
END:STANDARD
END:VTIMEZONE
BEGIN:VEVENT
DTSTART;TZID=America/Phoenix:20251009T170000
DTEND;TZID=America/Phoenix:20251009T170000
DTSTAMP:20260420T190625
CREATED:20251014T175615Z
LAST-MODIFIED:20251014T175932Z
UID:10000003-1760029200-1760029200@www.bhswarriors.com
SUMMARY:Lady Warriors Volleyball vs. Valley Union
DESCRIPTION:
URL:https://www.bhswarriors.com/calendar-event/lady-warriors-volleyball-vs-valley-union
LOCATION:Home
END:VEVENT
BEGIN:VEVENT
DTSTART;VALUE=DATE:20251004
DTEND;VALUE=DATE:20251005
DTSTAMP:20260420T190625
CREATED:20251014T175539Z
LAST-MODIFIED:20251014T175539Z
UID:10000002-1759536000-1759622399@www.bhswarriors.com
SUMMARY:Cross Country @ Juan Reyes Invitational
DESCRIPTION:
URL:https://www.bhswarriors.com/calendar-event/cross-country-juan-reyes-invitational
LOCATION:Cesar Chavez Park
END:VEVENT
BEGIN:VEVENT
DTSTART;TZID=America/Phoenix:20251003T190000
DTEND;TZID=America/Phoenix:20251003T190000
DTSTAMP:20260420T190625
CREATED:20251014T175504Z
LAST-MODIFIED:20251014T175504Z
UID:10000001-1759518000-1759518000@www.bhswarriors.com
SUMMARY:Football - Home
DESCRIPTION:
URL:https://www.bhswarriors.com/calendar-event/football-home
END:VEVENT
BEGIN:VEVENT
DTSTART;VALUE=DATE:20250929
DTEND;VALUE=DATE:20251004
DTSTAMP:20260420T190625
CREATED:20251014T180543Z
LAST-MODIFIED:20251014T180543Z
UID:10000008-1759104000-1759535999@www.bhswarriors.com
SUMMARY:Fall Break - No School
DESCRIPTION:
URL:https://www.bhswarriors.com/calendar-event/fall-break-no-school
END:VEVENT
END:VCALENDAR