BEGIN:VCALENDAR
VERSION:2.0
PRODID:-//Baboquivari Secondary Campus - ECPv6.15.17.1//NONSGML v1.0//EN
CALSCALE:GREGORIAN
METHOD:PUBLISH
X-ORIGINAL-URL:https://www.bhswarriors.com
X-WR-CALDESC:Events for Baboquivari Secondary Campus
REFRESH-INTERVAL;VALUE=DURATION:PT1H
X-Robots-Tag:noindex
X-PUBLISHED-TTL:PT1H
BEGIN:VTIMEZONE
TZID:America/Phoenix
BEGIN:STANDARD
TZOFFSETFROM:-0700
TZOFFSETTO:-0700
TZNAME:MST
DTSTART:20240101T000000
END:STANDARD
END:VTIMEZONE
BEGIN:VEVENT
DTSTART;VALUE=DATE:20260216
DTEND;VALUE=DATE:20260217
DTSTAMP:20260419T212431
CREATED:20251014T181444Z
LAST-MODIFIED:20251014T181444Z
UID:10000024-1771200000-1771286399@www.bhswarriors.com
SUMMARY:Presidents Day - No School
DESCRIPTION:
URL:https://www.bhswarriors.com/calendar-event/presidents-day-no-school
END:VEVENT
BEGIN:VEVENT
DTSTART;VALUE=DATE:20260210
DTEND;VALUE=DATE:20260211
DTSTAMP:20260419T212431
CREATED:20251014T181310Z
LAST-MODIFIED:20251014T181310Z
UID:10000023-1770681600-1770767999@www.bhswarriors.com
SUMMARY:Governing Board Meeting
DESCRIPTION:
URL:https://www.bhswarriors.com/calendar-event/governing-board-meeting-5
END:VEVENT
BEGIN:VEVENT
DTSTART;TZID=America/Phoenix:20260204T143000
DTEND;TZID=America/Phoenix:20260204T143000
DTSTAMP:20260419T212431
CREATED:20251124T164135Z
LAST-MODIFIED:20251124T164429Z
UID:10000057-1770215400-1770215400@www.bhswarriors.com
SUMMARY:Basketball vs. Willcox
DESCRIPTION:GJV: 2:30 p.m.\nBJV: 4:00 p.m.\nGV: 5:30 p.m.\nBV: 7:00 p.m.
URL:https://www.bhswarriors.com/calendar-event/basketball-vs-willcox
LOCATION:Home
END:VEVENT
BEGIN:VEVENT
DTSTART;TZID=America/Phoenix:20260203T173000
DTEND;TZID=America/Phoenix:20260203T173000
DTSTAMP:20260419T212431
CREATED:20251124T160914Z
LAST-MODIFIED:20251124T160914Z
UID:10000048-1770139800-1770139800@www.bhswarriors.com
SUMMARY:Basketball @ Valley Union
DESCRIPTION:GV: 5:30 p.m.\nBV: 7:00 p.m.
URL:https://www.bhswarriors.com/calendar-event/basketball-valley-union
LOCATION:Valley Union
END:VEVENT
BEGIN:VEVENT
DTSTART;VALUE=DATE:20260202
DTEND;VALUE=DATE:20260203
DTSTAMP:20260419T212431
CREATED:20251014T181251Z
LAST-MODIFIED:20251014T181251Z
UID:10000022-1769990400-1770076799@www.bhswarriors.com
SUMMARY:Rodeo Break
DESCRIPTION:
URL:https://www.bhswarriors.com/calendar-event/rodeo-break-2
END:VEVENT
BEGIN:VEVENT
DTSTART;TZID=America/Phoenix:20260130T160000
DTEND;TZID=America/Phoenix:20260130T160000
DTSTAMP:20260419T212431
CREATED:20251124T163331Z
LAST-MODIFIED:20251218T160511Z
UID:10000053-1769788800-1769788800@www.bhswarriors.com
SUMMARY:Basketball vs. Lourdes Catholic
DESCRIPTION:BJV: 4:00 p.m.\nGV: 5:30 p.m.\nBV: 7:00 p.m.
URL:https://www.bhswarriors.com/calendar-event/basketball-vs-lourdes-catholic
LOCATION:Home
END:VEVENT
BEGIN:VEVENT
DTSTART;VALUE=DATE:20260130
DTEND;VALUE=DATE:20260131
DTSTAMP:20260419T212431
CREATED:20251014T181230Z
LAST-MODIFIED:20251014T181230Z
UID:10000021-1769731200-1769817599@www.bhswarriors.com
SUMMARY:Rodeo Break
DESCRIPTION:
URL:https://www.bhswarriors.com/calendar-event/rodeo-break
END:VEVENT
BEGIN:VEVENT
DTSTART;TZID=America/Phoenix:20260128T160000
DTEND;TZID=America/Phoenix:20260128T160000
DTSTAMP:20260419T212431
CREATED:20251124T160811Z
LAST-MODIFIED:20251124T162624Z
UID:10000047-1769616000-1769616000@www.bhswarriors.com
SUMMARY:Basketball @ The Gregory
DESCRIPTION:BJV: 4:00 p.m.\nGV: 5:30 p.m.\nBV: 7:00 p.m.
URL:https://www.bhswarriors.com/calendar-event/basketball-the-gregory
LOCATION:The Gregory
END:VEVENT
BEGIN:VEVENT
DTSTART;TZID=America/Phoenix:20260127T143000
DTEND;TZID=America/Phoenix:20260127T143000
DTSTAMP:20260419T212431
CREATED:20251124T164007Z
LAST-MODIFIED:20251124T165442Z
UID:10000056-1769524200-1769524200@www.bhswarriors.com
SUMMARY:Basketball vs. Valley Lutheran
DESCRIPTION:GJV: 2:30 p.m.\nBJV: 4:00 p.m.\nGV: 5:30 p.m.\nBV: 7:00 p.m.
URL:https://www.bhswarriors.com/calendar-event/basketball-vs-valley-lutheran
LOCATION:Home
END:VEVENT
BEGIN:VEVENT
DTSTART;TZID=America/Phoenix:20260123T160000
DTEND;TZID=America/Phoenix:20260123T160000
DTSTAMP:20260419T212431
CREATED:20251124T160712Z
LAST-MODIFIED:20251124T162520Z
UID:10000046-1769184000-1769184000@www.bhswarriors.com
SUMMARY:Basketball @ Hayden
DESCRIPTION:BJV: 4:00 p.m.\nGV: 5:30 p.m.\nBV: 7:00 p.m.
URL:https://www.bhswarriors.com/calendar-event/basketball-hayden
LOCATION:Hayden
END:VEVENT
BEGIN:VEVENT
DTSTART;TZID=America/Phoenix:20260122T143000
DTEND;TZID=America/Phoenix:20260122T143000
DTSTAMP:20260419T212431
CREATED:20251124T160620Z
LAST-MODIFIED:20251124T161526Z
UID:10000045-1769092200-1769092200@www.bhswarriors.com
SUMMARY:Basketball @ St. David
DESCRIPTION:GJV: 2:30 p.m.\nBJV: 4:00 p.m.\nGV: 5:30 p.m.\nBV: 7:00 p.m.
URL:https://www.bhswarriors.com/calendar-event/basketball-st-david
LOCATION:St. David
END:VEVENT
BEGIN:VEVENT
DTSTART;VALUE=DATE:20260119
DTEND;VALUE=DATE:20260120
DTSTAMP:20260419T212431
CREATED:20251014T181208Z
LAST-MODIFIED:20251014T181208Z
UID:10000020-1768780800-1768867199@www.bhswarriors.com
SUMMARY:Martin Luther King Jr. Day - No School
DESCRIPTION:
URL:https://www.bhswarriors.com/calendar-event/martin-luther-king-jr-day-no-school
END:VEVENT
BEGIN:VEVENT
DTSTART;TZID=America/Phoenix:20260116T120000
DTEND;TZID=America/Phoenix:20260116T120000
DTSTAMP:20260419T212431
CREATED:20251124T163850Z
LAST-MODIFIED:20251124T163850Z
UID:10000055-1768564800-1768564800@www.bhswarriors.com
SUMMARY:Basketball vs. Patagonia
DESCRIPTION:GJV: 12:00 p.m.\nBJV: 1:30 p.m.\nGV: 3:00 p.m.\nBV: 4:30 p.m.
URL:https://www.bhswarriors.com/calendar-event/basketball-vs-patagonia
LOCATION:Home
END:VEVENT
BEGIN:VEVENT
DTSTART;TZID=America/Phoenix:20260113T143000
DTEND;TZID=America/Phoenix:20260113T143000
DTSTAMP:20260419T212431
CREATED:20251124T163501Z
LAST-MODIFIED:20251124T163603Z
UID:10000054-1768314600-1768314600@www.bhswarriors.com
SUMMARY:Basketball vs. Benson
DESCRIPTION:GJV: 2:30 p.m.\nBJV: 4:00 p.m.\nGV: 5:30 p.m.\nBV: 7:00 p.m.
URL:https://www.bhswarriors.com/calendar-event/basketball-vs-desert-christian
LOCATION:Home
END:VEVENT
BEGIN:VEVENT
DTSTART;VALUE=DATE:20260113
DTEND;VALUE=DATE:20260114
DTSTAMP:20260419T212431
CREATED:20251014T181145Z
LAST-MODIFIED:20251014T181145Z
UID:10000019-1768262400-1768348799@www.bhswarriors.com
SUMMARY:Governing Board Meeting
DESCRIPTION:
URL:https://www.bhswarriors.com/calendar-event/governing-board-meeting-4
END:VEVENT
BEGIN:VEVENT
DTSTART;TZID=America/Phoenix:20260110T113000
DTEND;TZID=America/Phoenix:20260110T113000
DTSTAMP:20260419T212431
CREATED:20251124T165224Z
LAST-MODIFIED:20251124T165224Z
UID:10000059-1768044600-1768044600@www.bhswarriors.com
SUMMARY:Basketball vs. Desert Christian
DESCRIPTION:GJV: 11:30 a.m.\nBJV: 1:00 p.m.\nGV: 2:30 p.m.\nBV: 4:00 p.m.
URL:https://www.bhswarriors.com/calendar-event/basketball-vs-desert-christian-2
LOCATION:Home
END:VEVENT
BEGIN:VEVENT
DTSTART;TZID=America/Phoenix:20260107T170000
DTEND;TZID=America/Phoenix:20260107T170000
DTSTAMP:20260419T212431
CREATED:20251124T155710Z
LAST-MODIFIED:20251218T160625Z
UID:10000042-1767805200-1767805200@www.bhswarriors.com
SUMMARY:BV Basketball @ Desert Heights Prep
DESCRIPTION:GV: 4:30 p.m. \nBV: 5:00 p.m.
URL:https://www.bhswarriors.com/calendar-event/basketball-benson-holiday-tournament
LOCATION:Desert Heights Prep
END:VEVENT
BEGIN:VEVENT
DTSTART;VALUE=DATE:20251229
DTEND;VALUE=DATE:20251231
DTSTAMP:20260419T212431
CREATED:20251124T160040Z
LAST-MODIFIED:20251124T160040Z
UID:10000044-1766966400-1767139199@www.bhswarriors.com
SUMMARY:BV Basketball @ Cape Verde Shootout
DESCRIPTION:
URL:https://www.bhswarriors.com/calendar-event/bv-basketball-cape-verde-shootout
LOCATION:Cape Verde
END:VEVENT
BEGIN:VEVENT
DTSTART;VALUE=DATE:20251229
DTEND;VALUE=DATE:20251231
DTSTAMP:20260419T212431
CREATED:20251124T155951Z
LAST-MODIFIED:20251124T160224Z
UID:10000043-1766966400-1767139199@www.bhswarriors.com
SUMMARY:GV Basketball @ Flowing Wells Shootout
DESCRIPTION:
URL:https://www.bhswarriors.com/calendar-event/gv-basketball-flowing-wells-shootout
LOCATION:Flowing Wells
END:VEVENT
BEGIN:VEVENT
DTSTART;VALUE=DATE:20251222
DTEND;VALUE=DATE:20260103
DTSTAMP:20260419T212431
CREATED:20251014T181120Z
LAST-MODIFIED:20251014T181120Z
UID:10000018-1766361600-1767398399@www.bhswarriors.com
SUMMARY:Winter Break - No School
DESCRIPTION:
URL:https://www.bhswarriors.com/calendar-event/winter-break-no-school
END:VEVENT
BEGIN:VEVENT
DTSTART;TZID=America/Phoenix:20251216T173000
DTEND;TZID=America/Phoenix:20251216T173000
DTSTAMP:20260419T212431
CREATED:20251124T163236Z
LAST-MODIFIED:20251124T163236Z
UID:10000052-1765906200-1765906200@www.bhswarriors.com
SUMMARY:Basketball vs. ASDB
DESCRIPTION:GV: 5:30 p.m.\nBV: 7:00 p.m.
URL:https://www.bhswarriors.com/calendar-event/basketball-vs-asdb
LOCATION:Home
END:VEVENT
BEGIN:VEVENT
DTSTART;VALUE=DATE:20251211
DTEND;VALUE=DATE:20251214
DTSTAMP:20260419T212431
CREATED:20251124T161226Z
LAST-MODIFIED:20251124T161226Z
UID:10000049-1765411200-1765670399@www.bhswarriors.com
SUMMARY:BV and GV Basketball @ Benson Holiday Tournament
DESCRIPTION:
URL:https://www.bhswarriors.com/calendar-event/bv-and-gv-basketball-benson-holiday-tournament
LOCATION:Benson
END:VEVENT
BEGIN:VEVENT
DTSTART;TZID=America/Phoenix:20251209T160000
DTEND;TZID=America/Phoenix:20251209T160000
DTSTAMP:20260419T212431
CREATED:20251124T163027Z
LAST-MODIFIED:20251124T163139Z
UID:10000051-1765296000-1765296000@www.bhswarriors.com
SUMMARY:Basketball vs. San Manuel Jr./Sr.
DESCRIPTION:BJV: 4:00 p.m.\nGV: 5:30 p.m.\nBV: 7:00 p.m.
URL:https://www.bhswarriors.com/calendar-event/basketball-vs-fort-thomas
LOCATION:Home
END:VEVENT
BEGIN:VEVENT
DTSTART;VALUE=DATE:20251209
DTEND;VALUE=DATE:20251210
DTSTAMP:20260419T212431
CREATED:20251014T181055Z
LAST-MODIFIED:20251014T181055Z
UID:10000017-1765238400-1765324799@www.bhswarriors.com
SUMMARY:Governing Board Meeting
DESCRIPTION:
URL:https://www.bhswarriors.com/calendar-event/governing-board-meeting-3
END:VEVENT
BEGIN:VEVENT
DTSTART;TZID=America/Phoenix:20251205T133000
DTEND;TZID=America/Phoenix:20251205T133000
DTSTAMP:20260419T212431
CREATED:20251124T164756Z
LAST-MODIFIED:20251124T164914Z
UID:10000058-1764941400-1764941400@www.bhswarriors.com
SUMMARY:Basketball vs. Fort Thomas
DESCRIPTION:GJV: 1:30 p.m.\nBJV: 3:00 p.m.\nGV: 4:30 p.m.\nBV: 6:00 p.m.
URL:https://www.bhswarriors.com/calendar-event/basketball-vs-fort-thomas-2
LOCATION:Home
END:VEVENT
BEGIN:VEVENT
DTSTART;VALUE=DATE:20251127
DTEND;VALUE=DATE:20251129
DTSTAMP:20260419T212431
CREATED:20251014T181026Z
LAST-MODIFIED:20251014T181026Z
UID:10000016-1764201600-1764374399@www.bhswarriors.com
SUMMARY:Thanksgiving Holiday
DESCRIPTION:
URL:https://www.bhswarriors.com/calendar-event/thanksgiving-holiday
END:VEVENT
BEGIN:VEVENT
DTSTART;TZID=America/Phoenix:20251125T160000
DTEND;TZID=America/Phoenix:20251125T160000
DTSTAMP:20260419T212431
CREATED:20251124T162915Z
LAST-MODIFIED:20251124T162915Z
UID:10000050-1764086400-1764086400@www.bhswarriors.com
SUMMARY:Basketball vs. San Simon
DESCRIPTION:BJV: 4:00 p.m.\nGV: 5:30 p.m.\nBV: 7:00 p.m.
URL:https://www.bhswarriors.com/calendar-event/basketball-vs-san-simon
LOCATION:Home
END:VEVENT
BEGIN:VEVENT
DTSTART;TZID=America/Phoenix:20251121T143000
DTEND;TZID=America/Phoenix:20251121T143000
DTSTAMP:20260419T212431
CREATED:20251124T155609Z
LAST-MODIFIED:20251124T155609Z
UID:10000041-1763735400-1763735400@www.bhswarriors.com
SUMMARY:Basketball @ Empire
DESCRIPTION:GJV: 2:30 p.m.\nBJV: 4:00 p.m.\nGV: 5:30 p.m.\nBV: 7:00 p.m.
URL:https://www.bhswarriors.com/calendar-event/basketball-empire
LOCATION:Empire
END:VEVENT
BEGIN:VEVENT
DTSTART;TZID=America/Phoenix:20251119T173000
DTEND;TZID=America/Phoenix:20251119T173000
DTSTAMP:20260419T212431
CREATED:20251124T155446Z
LAST-MODIFIED:20251124T155446Z
UID:10000040-1763573400-1763573400@www.bhswarriors.com
SUMMARY:Basketball @ ASDB
DESCRIPTION:GV: 5:30 p.m.\nBV: 7:00 p.m.
URL:https://www.bhswarriors.com/calendar-event/basketball-asdb
LOCATION:ASDB
END:VEVENT
BEGIN:VEVENT
DTSTART;VALUE=DATE:20251115
DTEND;VALUE=DATE:20251116
DTSTAMP:20260419T212431
CREATED:20251014T180849Z
LAST-MODIFIED:20251014T180849Z
UID:10000015-1763164800-1763251199@www.bhswarriors.com
SUMMARY:Cross Country @ AIA State Championships
DESCRIPTION:
URL:https://www.bhswarriors.com/calendar-event/cross-country-aia-state-championships
LOCATION:Cave Creek Golf Course
END:VEVENT
END:VCALENDAR