BEGIN:VCALENDAR
VERSION:2.0
PRODID:-//Baboquivari Secondary Campus - ECPv6.15.17.1//NONSGML v1.0//EN
CALSCALE:GREGORIAN
METHOD:PUBLISH
X-ORIGINAL-URL:https://www.bhswarriors.com
X-WR-CALDESC:Events for Baboquivari Secondary Campus
REFRESH-INTERVAL;VALUE=DURATION:PT1H
X-Robots-Tag:noindex
X-PUBLISHED-TTL:PT1H
BEGIN:VTIMEZONE
TZID:America/Phoenix
BEGIN:STANDARD
TZOFFSETFROM:-0700
TZOFFSETTO:-0700
TZNAME:MST
DTSTART:20250101T000000
END:STANDARD
END:VTIMEZONE
BEGIN:VEVENT
DTSTART;VALUE=DATE:20260525
DTEND;VALUE=DATE:20260526
DTSTAMP:20260419T224001
CREATED:20251014T182321Z
LAST-MODIFIED:20251014T182321Z
UID:10000037-1779667200-1779753599@www.bhswarriors.com
SUMMARY:Memorial Day
DESCRIPTION:
URL:https://www.bhswarriors.com/calendar-event/memorial-day
END:VEVENT
END:VCALENDAR