BEGIN:VCALENDAR
VERSION:2.0
PRODID:-//Baboquivari Secondary Campus - ECPv6.15.17.1//NONSGML v1.0//EN
CALSCALE:GREGORIAN
METHOD:PUBLISH
X-WR-CALNAME:Baboquivari Secondary Campus
X-ORIGINAL-URL:https://www.bhswarriors.com
X-WR-CALDESC:Events for Baboquivari Secondary Campus
REFRESH-INTERVAL;VALUE=DURATION:PT1H
X-Robots-Tag:noindex
X-PUBLISHED-TTL:PT1H
BEGIN:VTIMEZONE
TZID:America/Phoenix
BEGIN:STANDARD
TZOFFSETFROM:-0700
TZOFFSETTO:-0700
TZNAME:MST
DTSTART:20250101T000000
END:STANDARD
END:VTIMEZONE
BEGIN:VEVENT
DTSTART;VALUE=DATE:20260305
DTEND;VALUE=DATE:20260306
DTSTAMP:20260419T223431
CREATED:20251014T181525Z
LAST-MODIFIED:20251014T181525Z
UID:10000026-1772668800-1772755199@www.bhswarriors.com
SUMMARY:Parent-Teacher Conferences
DESCRIPTION:
URL:https://www.bhswarriors.com/calendar-event/parent-teacher-conferences-2
END:VEVENT
END:VCALENDAR